BEGIN:VCALENDAR
VERSION:2.0
PRODID:-//Unabhängige Bürgervertretung - ECPv6.15.20//NONSGML v1.0//EN
CALSCALE:GREGORIAN
METHOD:PUBLISH
X-ORIGINAL-URL:https://ubv-oberhaid.de
X-WR-CALDESC:Veranstaltungen für Unabhängige Bürgervertretung
REFRESH-INTERVAL;VALUE=DURATION:PT1H
X-Robots-Tag:noindex
X-PUBLISHED-TTL:PT1H
BEGIN:VTIMEZONE
TZID:Europe/Berlin
BEGIN:DAYLIGHT
TZOFFSETFROM:+0100
TZOFFSETTO:+0200
TZNAME:CEST
DTSTART:20250330T010000
END:DAYLIGHT
BEGIN:STANDARD
TZOFFSETFROM:+0200
TZOFFSETTO:+0100
TZNAME:CET
DTSTART:20251026T010000
END:STANDARD
BEGIN:DAYLIGHT
TZOFFSETFROM:+0100
TZOFFSETTO:+0200
TZNAME:CEST
DTSTART:20260329T010000
END:DAYLIGHT
BEGIN:STANDARD
TZOFFSETFROM:+0200
TZOFFSETTO:+0100
TZNAME:CET
DTSTART:20261025T010000
END:STANDARD
BEGIN:DAYLIGHT
TZOFFSETFROM:+0100
TZOFFSETTO:+0200
TZNAME:CEST
DTSTART:20270328T010000
END:DAYLIGHT
BEGIN:STANDARD
TZOFFSETFROM:+0200
TZOFFSETTO:+0100
TZNAME:CET
DTSTART:20271031T010000
END:STANDARD
END:VTIMEZONE
BEGIN:VEVENT
DTSTART;VALUE=DATE:20260308
DTEND;VALUE=DATE:20260309
DTSTAMP:20260423T133538
CREATED:20251021T153248Z
LAST-MODIFIED:20251021T153248Z
UID:2876-1772928000-1773014399@ubv-oberhaid.de
SUMMARY:Gemeinde- und Landkreiswahlen 2026
DESCRIPTION:
URL:https://ubv-oberhaid.de/event/gemeinde-und-landkreiswahlen-2026/
END:VEVENT
BEGIN:VEVENT
DTSTART;TZID=Europe/Berlin:20260308T170000
DTEND;TZID=Europe/Berlin:20260308T230000
DTSTAMP:20260423T133539
CREATED:20260226T075645Z
LAST-MODIFIED:20260226T075800Z
UID:3274-1772989200-1773010800@ubv-oberhaid.de
SUMMARY:Gemeinsamer Wahlabend am 08.03.2026 Brauerei Wagner 17Uhr
DESCRIPTION:
URL:https://ubv-oberhaid.de/event/gemeinsamer-wahlabend-am-08-03-2026-brauerei-wagner-17uhr/
END:VEVENT
END:VCALENDAR